BEGIN:VCALENDAR
VERSION:2.0
PRODID:-//Solvay Alumni Luxembourg - ECPv4.6//NONSGML v1.0//EN
CALSCALE:GREGORIAN
METHOD:PUBLISH
X-WR-CALNAME:Solvay Alumni Luxembourg
X-ORIGINAL-URL:http://solvayalumni.lu
X-WR-CALDESC:Events for Solvay Alumni Luxembourg
BEGIN:VEVENT
DTSTART;TZID=UTC+0:20180416T190000
DTEND;TZID=UTC+0:20180416T210000
DTSTAMP:20210422T094529
CREATED:20180417T211310Z
LAST-MODIFIED:20180417T211310Z
UID:165-1523905200-1523912400@solvayalumni.lu
SUMMARY:Finance Club Conference - Get to know the job
DESCRIPTION:
URL:http://solvayalumni.lu/event/finance-club-conference-get-to-know-the-job/
LOCATION:Avenue F.D. Roosevelt 42\, Belgium
CATEGORIES:Conference
ATTACH;FMTTYPE=image/jpeg:http://solvayalumni.lu/wp-content/uploads/2018/04/22538648_1851966534833364_1529884772557706119_o.jpg
END:VEVENT
END:VCALENDAR