BEGIN:VCALENDAR
VERSION:2.0
PRODID:-//Solvay Alumni Luxembourg - ECPv4.6//NONSGML v1.0//EN
CALSCALE:GREGORIAN
METHOD:PUBLISH
X-WR-CALNAME:Solvay Alumni Luxembourg
X-ORIGINAL-URL:http://solvayalumni.lu
X-WR-CALDESC:Events for Solvay Alumni Luxembourg
BEGIN:VEVENT
DTSTART;TZID=UTC+0:20180410T190000
DTEND;TZID=UTC+0:20180410T210000
DTSTAMP:20210422T094505
CREATED:20180417T205538Z
LAST-MODIFIED:20180417T205717Z
UID:160-1523386800-1523394000@solvayalumni.lu
SUMMARY:Drinks with ESADE and BOCCONI Alumni
DESCRIPTION:
URL:http://solvayalumni.lu/event/drinks-with-esade-and-bocconi-alumni/
LOCATION:Luxembourg\, Luxembourg
CATEGORIES:Drinks
ATTACH;FMTTYPE=image/jpeg:http://solvayalumni.lu/wp-content/uploads/2018/04/Alumni-Drinks.jpg
END:VEVENT
END:VCALENDAR